BEGIN:VCALENDAR
VERSION:2.0
PRODID:-//Insight PA Cyber Charter School - ECPv6.15.17.1//NONSGML v1.0//EN
CALSCALE:GREGORIAN
METHOD:PUBLISH
X-WR-CALNAME:Insight PA Cyber Charter School
X-ORIGINAL-URL:https://insightpaschool.org
X-WR-CALDESC:Events for Insight PA Cyber Charter School
REFRESH-INTERVAL;VALUE=DURATION:PT1H
X-Robots-Tag:noindex
X-PUBLISHED-TTL:PT1H
BEGIN:VTIMEZONE
TZID:America/New_York
BEGIN:DAYLIGHT
TZOFFSETFROM:-0500
TZOFFSETTO:-0400
TZNAME:EDT
DTSTART:20240310T070000
END:DAYLIGHT
BEGIN:STANDARD
TZOFFSETFROM:-0400
TZOFFSETTO:-0500
TZNAME:EST
DTSTART:20241103T060000
END:STANDARD
BEGIN:DAYLIGHT
TZOFFSETFROM:-0500
TZOFFSETTO:-0400
TZNAME:EDT
DTSTART:20250309T070000
END:DAYLIGHT
BEGIN:STANDARD
TZOFFSETFROM:-0400
TZOFFSETTO:-0500
TZNAME:EST
DTSTART:20251102T060000
END:STANDARD
BEGIN:DAYLIGHT
TZOFFSETFROM:-0500
TZOFFSETTO:-0400
TZNAME:EDT
DTSTART:20260308T070000
END:DAYLIGHT
BEGIN:STANDARD
TZOFFSETFROM:-0400
TZOFFSETTO:-0500
TZNAME:EST
DTSTART:20261101T060000
END:STANDARD
END:VTIMEZONE
BEGIN:VEVENT
DTSTART;TZID=America/New_York:20250509T120000
DTEND;TZID=America/New_York:20250509T150000
DTSTAMP:20260421T133210
CREATED:20250108T182846Z
LAST-MODIFIED:20250516T173443Z
UID:10000265-1746792000-1746802800@insightpaschool.org
SUMMARY:Union County - Clyde Peeling's Reptiland
DESCRIPTION:  \nEvent cancelled as of 5/5/2025
URL:https://insightpaschool.org/event/union-county-clyde-peelings-reptiland/
LOCATION:Clyde Peeling’s Reptiland\, 18628 US-15\, Allenwood\, PA\, 17810\, United States
CATEGORIES:In-Person Events
ATTACH;FMTTYPE=image/jpeg:https://insightpaschool.org/app/uploads/2025/01/Reptiles.jpg
ORGANIZER;CN="Kristin Seidel":MAILTO:krseidel@insightpaschool.org
END:VEVENT
END:VCALENDAR