BEGIN:VCALENDAR
VERSION:2.0
PRODID:-//Insight PA Cyber Charter School - ECPv6.15.17.1//NONSGML v1.0//EN
CALSCALE:GREGORIAN
METHOD:PUBLISH
X-WR-CALNAME:Insight PA Cyber Charter School
X-ORIGINAL-URL:https://insightpaschool.org
X-WR-CALDESC:Events for Insight PA Cyber Charter School
REFRESH-INTERVAL;VALUE=DURATION:PT1H
X-Robots-Tag:noindex
X-PUBLISHED-TTL:PT1H
BEGIN:VTIMEZONE
TZID:America/New_York
BEGIN:DAYLIGHT
TZOFFSETFROM:-0500
TZOFFSETTO:-0400
TZNAME:EDT
DTSTART:20220313T070000
END:DAYLIGHT
BEGIN:STANDARD
TZOFFSETFROM:-0400
TZOFFSETTO:-0500
TZNAME:EST
DTSTART:20221106T060000
END:STANDARD
BEGIN:DAYLIGHT
TZOFFSETFROM:-0500
TZOFFSETTO:-0400
TZNAME:EDT
DTSTART:20230312T070000
END:DAYLIGHT
BEGIN:STANDARD
TZOFFSETFROM:-0400
TZOFFSETTO:-0500
TZNAME:EST
DTSTART:20231105T060000
END:STANDARD
BEGIN:DAYLIGHT
TZOFFSETFROM:-0500
TZOFFSETTO:-0400
TZNAME:EDT
DTSTART:20240310T070000
END:DAYLIGHT
BEGIN:STANDARD
TZOFFSETFROM:-0400
TZOFFSETTO:-0500
TZNAME:EST
DTSTART:20241103T060000
END:STANDARD
END:VTIMEZONE
BEGIN:VEVENT
DTSTART;TZID=America/New_York:20231208T120000
DTEND;TZID=America/New_York:20231208T153000
DTSTAMP:20260421T131230
CREATED:20231206T142252Z
LAST-MODIFIED:20231206T142252Z
UID:10000025-1702036800-1702049400@insightpaschool.org
SUMMARY:State College (In-Person Event)
DESCRIPTION:Over the last 150 years\, the Creamery has been an important Penn State landmark and a world leader in dairy production and food science. Insight students will participate in Penn State’s self-guided video tour highlighting the 12 step process from cow to cone.  After sampling some of the amazing ice cream\, our families will head over to Beaver Stadium for a private tour. The tour will include the media room\, locker room\, team tunnel & field walkout\, Gate A (Nittanyville)\, Letterman’s Club\, and the Mount Nittany Club. We will round out our afternoon by walking through the Penn State All-Sports Museum and explore the athletic history and heritage of one of the greatest universities in the nation.  \nLearn more here! \n*Sign-Ups for this event are now closed.
URL:https://insightpaschool.org/event/state-college-in-person-event/
LOCATION:Penn State Berkey Creamery\, 119 Rodney A. Erickson Food Science Building\, University Park\, PA\, 16802\, United States
CATEGORIES:In-Person Events
END:VEVENT
BEGIN:VEVENT
DTSTART;VALUE=DATE:20231204
DTEND;VALUE=DATE:20231209
DTSTAMP:20260421T131230
CREATED:20231206T141749Z
LAST-MODIFIED:20231206T144101Z
UID:10000024-1701648000-1702079999@insightpaschool.org
SUMMARY:Winter Keystone Window
DESCRIPTION:
URL:https://insightpaschool.org/event/winter-keystone-window/
CATEGORIES:State Testing
END:VEVENT
BEGIN:VEVENT
DTSTART;TZID=America/New_York:20231128T190000
DTEND;TZID=America/New_York:20231128T210000
DTSTAMP:20260421T131230
CREATED:20230829T183733Z
LAST-MODIFIED:20230829T183733Z
UID:10000016-1701198000-1701205200@insightpaschool.org
SUMMARY:November 2023 Board Meeting
DESCRIPTION:
URL:https://insightpaschool.org/event/november-2023-board-meeting/
CATEGORIES:Board Meetings
END:VEVENT
BEGIN:VEVENT
DTSTART;TZID=America/New_York:20231024T190000
DTEND;TZID=America/New_York:20231024T210000
DTSTAMP:20260421T131230
CREATED:20230829T183650Z
LAST-MODIFIED:20230829T183900Z
UID:10000015-1698174000-1698181200@insightpaschool.org
SUMMARY:October 2023 Board Meeting
DESCRIPTION:**Date changed due to holiday
URL:https://insightpaschool.org/event/october-2023-board-meeting/
CATEGORIES:Board Meetings
END:VEVENT
BEGIN:VEVENT
DTSTART;TZID=America/New_York:20230926T190000
DTEND;TZID=America/New_York:20230926T210000
DTSTAMP:20260421T131230
CREATED:20230829T183549Z
LAST-MODIFIED:20230829T183549Z
UID:10000014-1695754800-1695762000@insightpaschool.org
SUMMARY:September 2023 Board Meeting
DESCRIPTION:
URL:https://insightpaschool.org/event/september-2023-board-meeting/
CATEGORIES:Board Meetings
END:VEVENT
BEGIN:VEVENT
DTSTART;TZID=America/New_York:20230829T190000
DTEND;TZID=America/New_York:20230829T210000
DTSTAMP:20260421T131230
CREATED:20230523T194100Z
LAST-MODIFIED:20230829T183452Z
UID:10000013-1693335600-1693342800@insightpaschool.org
SUMMARY:August 2023 Board Meeting
DESCRIPTION:
URL:https://insightpaschool.org/event/august-2023-board-meeting/
CATEGORIES:Board Meetings
END:VEVENT
BEGIN:VEVENT
DTSTART;TZID=America/New_York:20230725T190000
DTEND;TZID=America/New_York:20230725T210000
DTSTAMP:20260421T131230
CREATED:20230523T193934Z
LAST-MODIFIED:20230523T194140Z
UID:10000012-1690311600-1690318800@insightpaschool.org
SUMMARY:July 2023 Special Board Meeting
DESCRIPTION:
URL:https://insightpaschool.org/event/july-2023-special-board-meeting/
CATEGORIES:Board Meetings
END:VEVENT
BEGIN:VEVENT
DTSTART;VALUE=DATE:20230621
DTEND;VALUE=DATE:20230622
DTSTAMP:20260421T131230
CREATED:20230523T193546Z
LAST-MODIFIED:20230523T193546Z
UID:10000009-1687305600-1687391999@insightpaschool.org
SUMMARY:Summer Break Begins
DESCRIPTION:
URL:https://insightpaschool.org/event/summer-break-begins/
CATEGORIES:School Breaks
END:VEVENT
BEGIN:VEVENT
DTSTART;TZID=America/New_York:20230616T080000
DTEND;TZID=America/New_York:20230616T150000
DTSTAMP:20260421T131230
CREATED:20230523T193811Z
LAST-MODIFIED:20230523T193811Z
UID:10000011-1686902400-1686927600@insightpaschool.org
SUMMARY:Middle School Field Trip
DESCRIPTION:
URL:https://insightpaschool.org/event/middle-school-field-trip/
END:VEVENT
BEGIN:VEVENT
DTSTART;VALUE=DATE:20230605
DTEND;VALUE=DATE:20230610
DTSTAMP:20260421T131230
CREATED:20230523T193637Z
LAST-MODIFIED:20230530T201059Z
UID:10000010-1685923200-1686355199@insightpaschool.org
SUMMARY:2023-24 Student Registration
DESCRIPTION:
URL:https://insightpaschool.org/event/2023-24-student-registration/
END:VEVENT
END:VCALENDAR