BEGIN:VCALENDAR
VERSION:2.0
PRODID:-//Insight PA Cyber Charter School - ECPv6.15.17.1//NONSGML v1.0//EN
CALSCALE:GREGORIAN
METHOD:PUBLISH
X-ORIGINAL-URL:https://insightpaschool.org
X-WR-CALDESC:Events for Insight PA Cyber Charter School
REFRESH-INTERVAL;VALUE=DURATION:PT1H
X-Robots-Tag:noindex
X-PUBLISHED-TTL:PT1H
BEGIN:VTIMEZONE
TZID:America/New_York
BEGIN:DAYLIGHT
TZOFFSETFROM:-0500
TZOFFSETTO:-0400
TZNAME:EDT
DTSTART:20240310T070000
END:DAYLIGHT
BEGIN:STANDARD
TZOFFSETFROM:-0400
TZOFFSETTO:-0500
TZNAME:EST
DTSTART:20241103T060000
END:STANDARD
BEGIN:DAYLIGHT
TZOFFSETFROM:-0500
TZOFFSETTO:-0400
TZNAME:EDT
DTSTART:20250309T070000
END:DAYLIGHT
BEGIN:STANDARD
TZOFFSETFROM:-0400
TZOFFSETTO:-0500
TZNAME:EST
DTSTART:20251102T060000
END:STANDARD
BEGIN:DAYLIGHT
TZOFFSETFROM:-0500
TZOFFSETTO:-0400
TZNAME:EDT
DTSTART:20260308T070000
END:DAYLIGHT
BEGIN:STANDARD
TZOFFSETFROM:-0400
TZOFFSETTO:-0500
TZNAME:EST
DTSTART:20261101T060000
END:STANDARD
END:VTIMEZONE
BEGIN:VEVENT
DTSTART;TZID=America/New_York:20250501T183000
DTEND;TZID=America/New_York:20250501T193000
DTSTAMP:20260423T142907
CREATED:20250414T170022Z
LAST-MODIFIED:20250414T170022Z
UID:10000304-1746124200-1746127800@insightpaschool.org
SUMMARY:Financial Literacy Workshop: Investing & Planning for the Future
DESCRIPTION:Insight PA is proud to offer a 4-part Financial Literacy Workshop Series to empower families with essential financial knowledge and tools. These sessions will be hosted in Zoom by Mr. Handy\, Community Engagement Coordinator\, and presented by Allan Boomer\, Managing Partner at  Momentum Advisors.  \n\n\nWeek 2\, Part 2: Investing & Planning for the Future\n➤ Smart saving and investing for families\n➤ Compound interest\n➤ Stocks\, bonds\, 529s\, and retirement basics \n\n???? Use the link below to register for the Financial Literacy Workshop Series. Whether you’re joining all 4 sessions or picking the ones that fit your family’s needs\, this series is designed to empower you with tools for a brighter financial future! \n\n\n???? Family Registration Link\n*A Zoom link will be provided to all pre-registered attendees.\n\n\nQuestions? Contact Mr. Handy!\n???? cohandyiii@insightpaschool.org\n???? 215-982-4083 (office)\n???? 609-672-0016 (cell/text)
URL:https://insightpaschool.org/event/financial-literacy-investing-planning/
CATEGORIES:Virtual Events
END:VEVENT
BEGIN:VEVENT
DTSTART;TZID=America/New_York:20250508T183000
DTEND;TZID=America/New_York:20250508T193000
DTSTAMP:20260423T142907
CREATED:20250414T170220Z
LAST-MODIFIED:20250414T170220Z
UID:10000305-1746729000-1746732600@insightpaschool.org
SUMMARY:Financial Literacy Workshop: Legacy Planning
DESCRIPTION:Insight PA is proud to offer a 4-part Financial Literacy Workshop Series to empower families with essential financial knowledge and tools. These sessions will be hosted in Zoom by Mr. Handy\, Community Engagement Coordinator\, and presented by Allan Boomer\, Managing Partner at  Momentum Advisors.  \n\n\nWeek 3: Legacy Planning\n➤ Building a lasting financial legacy\n➤ Life insurance\, estate planning\n➤ Teaching kids about money and entrepreneurship \n\n???? Use the link below to register for the Financial Literacy Workshop Series. Whether you’re joining all 4 sessions or picking the ones that fit your family’s needs\, this series is designed to empower you with tools for a brighter financial future! \n\n\n???? Family Registration Link\n*A Zoom link will be provided to all pre-registered attendees.\n\n\nQuestions? Contact Mr. Handy!\n???? cohandyiii@insightpaschool.org\n???? 215-982-4083 (office)\n???? 609-672-0016 (cell/text)
URL:https://insightpaschool.org/event/financial-literacy-legacy-planning/
CATEGORIES:Virtual Events
END:VEVENT
BEGIN:VEVENT
DTSTART;TZID=America/New_York:20250513T180000
DTEND;TZID=America/New_York:20250513T190000
DTSTAMP:20260423T142907
CREATED:20250414T174506Z
LAST-MODIFIED:20250414T174827Z
UID:10000306-1747159200-1747162800@insightpaschool.org
SUMMARY:May Community Town Hall
DESCRIPTION: \nJoin us this month to learn about the exciting things we have planned for the25-26 school year! \n\nZoom Link
URL:https://insightpaschool.org/event/may-community-town-hall/
CATEGORIES:Virtual Events
END:VEVENT
END:VCALENDAR