BEGIN:VCALENDAR
VERSION:2.0
PRODID:-//Insight PA Cyber Charter School - ECPv6.15.17.1//NONSGML v1.0//EN
CALSCALE:GREGORIAN
METHOD:PUBLISH
X-ORIGINAL-URL:https://insightpaschool.org
X-WR-CALDESC:Events for Insight PA Cyber Charter School
REFRESH-INTERVAL;VALUE=DURATION:PT1H
X-Robots-Tag:noindex
X-PUBLISHED-TTL:PT1H
BEGIN:VTIMEZONE
TZID:America/New_York
BEGIN:DAYLIGHT
TZOFFSETFROM:-0500
TZOFFSETTO:-0400
TZNAME:EDT
DTSTART:20230312T070000
END:DAYLIGHT
BEGIN:STANDARD
TZOFFSETFROM:-0400
TZOFFSETTO:-0500
TZNAME:EST
DTSTART:20231105T060000
END:STANDARD
BEGIN:DAYLIGHT
TZOFFSETFROM:-0500
TZOFFSETTO:-0400
TZNAME:EDT
DTSTART:20240310T070000
END:DAYLIGHT
BEGIN:STANDARD
TZOFFSETFROM:-0400
TZOFFSETTO:-0500
TZNAME:EST
DTSTART:20241103T060000
END:STANDARD
BEGIN:DAYLIGHT
TZOFFSETFROM:-0500
TZOFFSETTO:-0400
TZNAME:EDT
DTSTART:20250309T070000
END:DAYLIGHT
BEGIN:STANDARD
TZOFFSETFROM:-0400
TZOFFSETTO:-0500
TZNAME:EST
DTSTART:20251102T060000
END:STANDARD
END:VTIMEZONE
BEGIN:VEVENT
DTSTART;TZID=America/New_York:20240822T183000
DTEND;TZID=America/New_York:20240822T200000
DTSTAMP:20260424T045424
CREATED:20240819T122107Z
LAST-MODIFIED:20240819T122258Z
UID:10000208-1724351400-1724356800@insightpaschool.org
SUMMARY:Learning Coach Central
DESCRIPTION:  \nInsight PA parents\, guardians\, and Learning Coaches are invited to join us for this very important Learning Coach Central! During this session\, members of our Strong Start (Orientation)\, Communications\, and Technology teams will cover a variety of topics to help you better prepare for the 24-25 school year. These topics will include: \n\nThe role of the LEAP Specialist and how they can help your family\nGetting set up and using ParentSquare and StudentSquare\nCommunications and community engagement/event updates\nAn overview of Schoology and other online platforms\nAnd more!\n\nWe look forward to seeing you there! If you have any questions\, please contact the Strong Start Advisor for your grade band: \n\nElementary – Heather Clark (heclark@insightpaschool.org)\nMiddle School – Valeria Marraccini (vamarraccini@insightpaschool.org)\nHigh School – Jasmyn Day (jaday@insightpaschool.org)
URL:https://insightpaschool.org/event/learning-coach-central/
CATEGORIES:Virtual Events
END:VEVENT
END:VCALENDAR