BEGIN:VCALENDAR
VERSION:2.0
PRODID:-//Insight PA Cyber Charter School - ECPv6.15.17.1//NONSGML v1.0//EN
CALSCALE:GREGORIAN
METHOD:PUBLISH
X-ORIGINAL-URL:https://insightpaschool.org
X-WR-CALDESC:Events for Insight PA Cyber Charter School
REFRESH-INTERVAL;VALUE=DURATION:PT1H
X-Robots-Tag:noindex
X-PUBLISHED-TTL:PT1H
BEGIN:VTIMEZONE
TZID:America/New_York
BEGIN:DAYLIGHT
TZOFFSETFROM:-0500
TZOFFSETTO:-0400
TZNAME:EDT
DTSTART:20230312T070000
END:DAYLIGHT
BEGIN:STANDARD
TZOFFSETFROM:-0400
TZOFFSETTO:-0500
TZNAME:EST
DTSTART:20231105T060000
END:STANDARD
BEGIN:DAYLIGHT
TZOFFSETFROM:-0500
TZOFFSETTO:-0400
TZNAME:EDT
DTSTART:20240310T070000
END:DAYLIGHT
BEGIN:STANDARD
TZOFFSETFROM:-0400
TZOFFSETTO:-0500
TZNAME:EST
DTSTART:20241103T060000
END:STANDARD
BEGIN:DAYLIGHT
TZOFFSETFROM:-0500
TZOFFSETTO:-0400
TZNAME:EDT
DTSTART:20250309T070000
END:DAYLIGHT
BEGIN:STANDARD
TZOFFSETFROM:-0400
TZOFFSETTO:-0500
TZNAME:EST
DTSTART:20251102T060000
END:STANDARD
END:VTIMEZONE
BEGIN:VEVENT
DTSTART;TZID=America/New_York:20240507T173000
DTEND;TZID=America/New_York:20240507T183000
DTSTAMP:20260424T093606
CREATED:20240419T132305Z
LAST-MODIFIED:20240419T132305Z
UID:10000110-1715103000-1715106600@insightpaschool.org
SUMMARY:Financial Literacy Workshop: Retirement Investing
DESCRIPTION:  \nThis FREE virtual session will compare and contrast traditional IRA\, Roth IRA\, and 401(k) retirement investment options to help attendees make informed decisions about their financial futures. \nRSVP here! \nPlease note the following: \n\nAll sessions will take place over Zoom from 5:30pm – 6:30pm.\nAttendees must RSVP ahead of time.\nAn invitation with the Zoom link will be sent out to all pre-registered attendees.\nIf you have any questions\, contact Courtland Handy at cohandy@insightpa.org.
URL:https://insightpaschool.org/event/financial-literacy-retirement/
CATEGORIES:Virtual Events
ORGANIZER;CN="Courtland Handy":MAILTO:cohandyiii@insightpaschool.org
END:VEVENT
END:VCALENDAR