BEGIN:VCALENDAR
VERSION:2.0
PRODID:-//Insight PA Cyber Charter School - ECPv6.15.17.1//NONSGML v1.0//EN
CALSCALE:GREGORIAN
METHOD:PUBLISH
X-ORIGINAL-URL:https://insightpaschool.org
X-WR-CALDESC:Events for Insight PA Cyber Charter School
REFRESH-INTERVAL;VALUE=DURATION:PT1H
X-Robots-Tag:noindex
X-PUBLISHED-TTL:PT1H
BEGIN:VTIMEZONE
TZID:America/New_York
BEGIN:DAYLIGHT
TZOFFSETFROM:-0500
TZOFFSETTO:-0400
TZNAME:EDT
DTSTART:20220313T070000
END:DAYLIGHT
BEGIN:STANDARD
TZOFFSETFROM:-0400
TZOFFSETTO:-0500
TZNAME:EST
DTSTART:20221106T060000
END:STANDARD
BEGIN:DAYLIGHT
TZOFFSETFROM:-0500
TZOFFSETTO:-0400
TZNAME:EDT
DTSTART:20230312T070000
END:DAYLIGHT
BEGIN:STANDARD
TZOFFSETFROM:-0400
TZOFFSETTO:-0500
TZNAME:EST
DTSTART:20231105T060000
END:STANDARD
BEGIN:DAYLIGHT
TZOFFSETFROM:-0500
TZOFFSETTO:-0400
TZNAME:EDT
DTSTART:20240310T070000
END:DAYLIGHT
BEGIN:STANDARD
TZOFFSETFROM:-0400
TZOFFSETTO:-0500
TZNAME:EST
DTSTART:20241103T060000
END:STANDARD
BEGIN:DAYLIGHT
TZOFFSETFROM:-0500
TZOFFSETTO:-0400
TZNAME:EDT
DTSTART:20250309T070000
END:DAYLIGHT
BEGIN:STANDARD
TZOFFSETFROM:-0400
TZOFFSETTO:-0500
TZNAME:EST
DTSTART:20251102T060000
END:STANDARD
BEGIN:DAYLIGHT
TZOFFSETFROM:-0500
TZOFFSETTO:-0400
TZNAME:EDT
DTSTART:20260308T070000
END:DAYLIGHT
BEGIN:STANDARD
TZOFFSETFROM:-0400
TZOFFSETTO:-0500
TZNAME:EST
DTSTART:20261101T060000
END:STANDARD
END:VTIMEZONE
BEGIN:VEVENT
DTSTART;VALUE=DATE:20250519
DTEND;VALUE=DATE:20250524
DTSTAMP:20260423T113557
CREATED:20240614T192628Z
LAST-MODIFIED:20240614T192945Z
UID:10000148-1747612800-1748044799@insightpaschool.org
SUMMARY:Spring Keystone Window
DESCRIPTION:
URL:https://insightpaschool.org/event/spring-keystone-testing-window/
CATEGORIES:State Testing
END:VEVENT
BEGIN:VEVENT
DTSTART;VALUE=DATE:20250512
DTEND;VALUE=DATE:20250517
DTSTAMP:20260423T113557
CREATED:20240614T192510Z
LAST-MODIFIED:20240614T193545Z
UID:10000147-1747008000-1747439999@insightpaschool.org
SUMMARY:Spring Keystone Window
DESCRIPTION:
URL:https://insightpaschool.org/event/spring-keystone-window-3/
CATEGORIES:State Testing
END:VEVENT
BEGIN:VEVENT
DTSTART;VALUE=DATE:20250505
DTEND;VALUE=DATE:20250510
DTSTAMP:20260423T113557
CREATED:20240614T192346Z
LAST-MODIFIED:20240617T123650Z
UID:10000145-1746403200-1746835199@insightpaschool.org
SUMMARY:PSSA Testing Window
DESCRIPTION:
URL:https://insightpaschool.org/event/pssa-testing-window-6/
CATEGORIES:State Testing
END:VEVENT
BEGIN:VEVENT
DTSTART;VALUE=DATE:20250428
DTEND;VALUE=DATE:20250503
DTSTAMP:20260423T113557
CREATED:20240614T192244Z
LAST-MODIFIED:20240617T123557Z
UID:10000144-1745798400-1746230399@insightpaschool.org
SUMMARY:PSSA Testing Window
DESCRIPTION:
URL:https://insightpaschool.org/event/pssa-testing-window-5/
CATEGORIES:State Testing
END:VEVENT
BEGIN:VEVENT
DTSTART;VALUE=DATE:20250421
DTEND;VALUE=DATE:20250426
DTSTAMP:20260423T113557
CREATED:20240614T192209Z
LAST-MODIFIED:20240614T193745Z
UID:10000143-1745193600-1745625599@insightpaschool.org
SUMMARY:PSSA Testing Window
DESCRIPTION:
URL:https://insightpaschool.org/event/pssa-testing-window-4/
CATEGORIES:State Testing
END:VEVENT
BEGIN:VEVENT
DTSTART;VALUE=DATE:20240520
DTEND;VALUE=DATE:20240525
DTSTAMP:20260423T113557
CREATED:20231206T144000Z
LAST-MODIFIED:20231206T144000Z
UID:10000042-1716163200-1716595199@insightpaschool.org
SUMMARY:Spring Keystone Window
DESCRIPTION:
URL:https://insightpaschool.org/event/spring-keystone-window-2/
CATEGORIES:State Testing
END:VEVENT
BEGIN:VEVENT
DTSTART;VALUE=DATE:20240513
DTEND;VALUE=DATE:20240518
DTSTAMP:20260423T113557
CREATED:20231206T143937Z
LAST-MODIFIED:20231206T143937Z
UID:10000041-1715558400-1715990399@insightpaschool.org
SUMMARY:Spring Keystone Window
DESCRIPTION:
URL:https://insightpaschool.org/event/spring-keystone-window/
CATEGORIES:State Testing
END:VEVENT
BEGIN:VEVENT
DTSTART;VALUE=DATE:20240506
DTEND;VALUE=DATE:20240511
DTSTAMP:20260423T113557
CREATED:20231206T143906Z
LAST-MODIFIED:20231206T143906Z
UID:10000040-1714953600-1715385599@insightpaschool.org
SUMMARY:PSSA Testing Window
DESCRIPTION:
URL:https://insightpaschool.org/event/pssa-testing-window-3/
CATEGORIES:State Testing
END:VEVENT
BEGIN:VEVENT
DTSTART;VALUE=DATE:20240429
DTEND;VALUE=DATE:20240504
DTSTAMP:20260423T113557
CREATED:20231206T143843Z
LAST-MODIFIED:20231206T143843Z
UID:10000039-1714348800-1714780799@insightpaschool.org
SUMMARY:PSSA Testing Window
DESCRIPTION:
URL:https://insightpaschool.org/event/pssa-testing-window-2/
CATEGORIES:State Testing
END:VEVENT
BEGIN:VEVENT
DTSTART;VALUE=DATE:20240422
DTEND;VALUE=DATE:20240427
DTSTAMP:20260423T113557
CREATED:20231206T143816Z
LAST-MODIFIED:20231206T143816Z
UID:10000038-1713744000-1714175999@insightpaschool.org
SUMMARY:PSSA Testing Window
DESCRIPTION:
URL:https://insightpaschool.org/event/pssa-testing-window/
CATEGORIES:State Testing
END:VEVENT
BEGIN:VEVENT
DTSTART;VALUE=DATE:20231211
DTEND;VALUE=DATE:20231216
DTSTAMP:20260423T113557
CREATED:20231206T144127Z
LAST-MODIFIED:20231206T144127Z
UID:10000044-1702252800-1702684799@insightpaschool.org
SUMMARY:Winter Keystone Window
DESCRIPTION:
URL:https://insightpaschool.org/event/winter-keystone-window-2/
CATEGORIES:State Testing
END:VEVENT
BEGIN:VEVENT
DTSTART;VALUE=DATE:20231204
DTEND;VALUE=DATE:20231209
DTSTAMP:20260423T113557
CREATED:20231206T141749Z
LAST-MODIFIED:20231206T144101Z
UID:10000024-1701648000-1702079999@insightpaschool.org
SUMMARY:Winter Keystone Window
DESCRIPTION:
URL:https://insightpaschool.org/event/winter-keystone-window/
CATEGORIES:State Testing
END:VEVENT
END:VCALENDAR