BEGIN:VCALENDAR
VERSION:2.0
PRODID:-//Insight PA Cyber Charter School - ECPv6.15.17.1//NONSGML v1.0//EN
CALSCALE:GREGORIAN
METHOD:PUBLISH
X-ORIGINAL-URL:https://insightpaschool.org
X-WR-CALDESC:Events for Insight PA Cyber Charter School
REFRESH-INTERVAL;VALUE=DURATION:PT1H
X-Robots-Tag:noindex
X-PUBLISHED-TTL:PT1H
BEGIN:VTIMEZONE
TZID:America/New_York
BEGIN:DAYLIGHT
TZOFFSETFROM:-0500
TZOFFSETTO:-0400
TZNAME:EDT
DTSTART:20240310T070000
END:DAYLIGHT
BEGIN:STANDARD
TZOFFSETFROM:-0400
TZOFFSETTO:-0500
TZNAME:EST
DTSTART:20241103T060000
END:STANDARD
BEGIN:DAYLIGHT
TZOFFSETFROM:-0500
TZOFFSETTO:-0400
TZNAME:EDT
DTSTART:20250309T070000
END:DAYLIGHT
BEGIN:STANDARD
TZOFFSETFROM:-0400
TZOFFSETTO:-0500
TZNAME:EST
DTSTART:20251102T060000
END:STANDARD
BEGIN:DAYLIGHT
TZOFFSETFROM:-0500
TZOFFSETTO:-0400
TZNAME:EDT
DTSTART:20260308T070000
END:DAYLIGHT
BEGIN:STANDARD
TZOFFSETFROM:-0400
TZOFFSETTO:-0500
TZNAME:EST
DTSTART:20261101T060000
END:STANDARD
END:VTIMEZONE
BEGIN:VEVENT
DTSTART;TZID=America/New_York:20250708T100000
DTEND;TZID=America/New_York:20250708T103000
DTSTAMP:20260422T042845
CREATED:20250707T161517Z
LAST-MODIFIED:20250707T162026Z
UID:10000410-1751968800-1751970600@insightpaschool.org
SUMMARY:Virtual Open House
DESCRIPTION:Learn More About Insight PA!\nDo you need more information to determine if Insight PA is right for your family? Join us at one of our upcoming Virtual Open Houses! During these sessions\, we’ll provide information on how things work at Insight PA and how we support our students and their families. Attendees will also have the opportunity to ask additional questions. \nView Upcoming Sessions & Register to Attend
URL:https://insightpaschool.org/event/open-house-jul-8-am/
CATEGORIES:Enrollment Information Session
END:VEVENT
BEGIN:VEVENT
DTSTART;TZID=America/New_York:20250708T180000
DTEND;TZID=America/New_York:20250708T183000
DTSTAMP:20260422T042845
CREATED:20250422T192156Z
LAST-MODIFIED:20250425T183406Z
UID:10000309-1751997600-1751999400@insightpaschool.org
SUMMARY:Virtual Open House
DESCRIPTION:Learn More About Insight PA!\nDo you need more information to determine if Insight PA is right for your family? Join us at one of our upcoming Virtual Open Houses! During these sessions\, we’ll provide information on how things work at Insight PA and how we support our students and their families. Attendees will also have the opportunity to ask additional questions. \nView Upcoming Sessions & Register to Attend
URL:https://insightpaschool.org/event/open-house-july-8-pm/
CATEGORIES:Enrollment Information Session
END:VEVENT
END:VCALENDAR