BEGIN:VCALENDAR
VERSION:2.0
PRODID:-//Insight PA Cyber Charter School - ECPv6.15.17.1//NONSGML v1.0//EN
CALSCALE:GREGORIAN
METHOD:PUBLISH
X-ORIGINAL-URL:https://insightpaschool.org
X-WR-CALDESC:Events for Insight PA Cyber Charter School
REFRESH-INTERVAL;VALUE=DURATION:PT1H
X-Robots-Tag:noindex
X-PUBLISHED-TTL:PT1H
BEGIN:VTIMEZONE
TZID:America/New_York
BEGIN:DAYLIGHT
TZOFFSETFROM:-0500
TZOFFSETTO:-0400
TZNAME:EDT
DTSTART:20240310T070000
END:DAYLIGHT
BEGIN:STANDARD
TZOFFSETFROM:-0400
TZOFFSETTO:-0500
TZNAME:EST
DTSTART:20241103T060000
END:STANDARD
BEGIN:DAYLIGHT
TZOFFSETFROM:-0500
TZOFFSETTO:-0400
TZNAME:EDT
DTSTART:20250309T070000
END:DAYLIGHT
BEGIN:STANDARD
TZOFFSETFROM:-0400
TZOFFSETTO:-0500
TZNAME:EST
DTSTART:20251102T060000
END:STANDARD
BEGIN:DAYLIGHT
TZOFFSETFROM:-0500
TZOFFSETTO:-0400
TZNAME:EDT
DTSTART:20260308T070000
END:DAYLIGHT
BEGIN:STANDARD
TZOFFSETFROM:-0400
TZOFFSETTO:-0500
TZNAME:EST
DTSTART:20261101T060000
END:STANDARD
END:VTIMEZONE
BEGIN:VEVENT
DTSTART;TZID=America/New_York:20250523T123000
DTEND;TZID=America/New_York:20250523T153000
DTSTAMP:20260421T131415
CREATED:20250214T153903Z
LAST-MODIFIED:20250429T015947Z
UID:10000287-1748003400-1748014200@insightpaschool.org
SUMMARY:Bucks County - Funzilla Family Event!
DESCRIPTION:???? Date: Friday\, May 23\, 2025???? Time: 12:30 PM – 3:30 PM???? Location: Funzilla\, 500 Lincoln Hwy\, Fairless Hills\, PA 19030???? Website: www.funzillapa.com \n???? End the school year with an action-packed day at Funzilla!\nCome bounce\, climb\, and race your way through trampolines\, obstacle courses\, and more at this high-energy family event. Whether you love jumping\, running\, or playing\, there’s something for everyone to enjoy at this ultimate family fun experience! \n???? Event Highlights:\n\nJump into Action: Try the trampolines\, ninja courses\, and foam pits!\nObstacle Challenges: Race through fun and exciting obstacle courses.\nGames & More: Fun for all ages\, from toddlers to teens!\n\n???? Cost:\n\nFREE for all Insight PA enrolled students and one accompanying family member.\nAdditional guests are welcome for $20 per person.\nGo kart is $5\n\n???? Lunch on Us!\nEnjoy a complimentary lunch\, provided by Insight PA. \n???? Parking:\nPlenty of FREE on-site parking is available. \n???? Meeting Spot:\nFind our Insight PA sign-in table near the Funzilla entrance. Look for the Insight PA banner to check in and receive event materials. \n???? Registration Details:\nOpens: April 29th\, 2025 \nCloses: May 16th\, 2025\, at 4:00 PM \n???? How to Register: \n\nRegister on ParentSquare by clicking the Family Sign-Up button.\nSelect Yes or No to attending.\nAdd the total number of adults and children — be sure to list your Insight PA student(s).\nClick Save and Submit!\nComplete the form (it auto-fills your info).\nClick Save and Submit!\n\n✅ Important: A separate form must be completed for each Insight PA student attending. \nFamily Sign Up \n⬇️ Staff Sign-Up \n\n???? Need Assistance?\nIf you have any questions\, need special accommodations\, or require assistance at the event\, please reach out to: \n???? Courtland Handy \nPhiladelphia\, Southeast & South Central PA \nCommunity Engagement Coordinator \n???? Email: cohandyiii@insightpaschool.org???? Phone/Text: 609-672-0016 \nWe can’t wait to see you there! ????
URL:https://insightpaschool.org/event/bucks-county-funzilla-family-event/
LOCATION:Funzilla\, 500 Lincoln Hwy\, Fairless Hills\, PA\, 19030
CATEGORIES:In-Person Events
ORGANIZER;CN="Courtland Handy":MAILTO:cohandyiii@insightpaschool.org
END:VEVENT
BEGIN:VEVENT
DTSTART;TZID=America/New_York:20250523T130000
DTEND;TZID=America/New_York:20250523T150000
DTSTAMP:20260421T131415
CREATED:20250127T145443Z
LAST-MODIFIED:20250127T151733Z
UID:10000280-1748005200-1748012400@insightpaschool.org
SUMMARY:Erie County- Elevate Erie
DESCRIPTION:???? Elevate Erie End-of-Year Event : Trampoline Park Adventure! ????\nHey Insight PA families and students! \nWe’re bouncing into the end of an amazing year\, and what better way to celebrate than with a fun-filled event at ELEVATE Trampoline Park! Get ready for an action-packed day of jumping\, laughing\, and making memories. \nDate: May 23\nTime: 1:00-3:00 pm\nCost: Insight PA will cover the cost for current students! Additional children ages 5 and younger are welcome to be included in the sign up and will cost $12.00 per child. There is no charge for spectators.\nWhat to Bring: \n\nComfy clothes\nWater bottle\nPositive energy and excitement!\n\nIt’s going to be a day full of fun\, team games\, and a chance to let loose before the school year wraps up. Please remember to bring your signed waiver -( the waiver will be sent to you before the event). \nWe can’t wait to end the year on a high (jumping) note with all of you! \nRegistration is required and will close on Thursday May 15 at 4:00 pm \nFor any questions\, feel free to reach out to Mrs. Burke chburke@insightpaschool.org \nLet’s jump into an unforgettable day together! ????‍♀️✨ \nFamily Sign up FormStaff Sign- Up Form
URL:https://insightpaschool.org/event/erie-county-elevate-erie/
LOCATION:Elevate Erie\, 1338 E Grandview Blvd\, Erie\, PA\, 16504
CATEGORIES:In-Person Events
ORGANIZER;CN="Chelsea Burke":MAILTO:chburke@insightpaschool.org
END:VEVENT
BEGIN:VEVENT
DTSTART;VALUE=DATE:20250530
DTEND;VALUE=DATE:20250531
DTSTAMP:20260421T131415
CREATED:20240918T150122Z
LAST-MODIFIED:20240918T150122Z
UID:10000229-1748563200-1748649599@insightpaschool.org
SUMMARY:Senior Prom
DESCRIPTION:
URL:https://insightpaschool.org/event/senior-prom-2025/
LOCATION:PA
CATEGORIES:In-Person Events
END:VEVENT
BEGIN:VEVENT
DTSTART;VALUE=DATE:20250531
DTEND;VALUE=DATE:20250601
DTSTAMP:20260421T131415
CREATED:20240918T150154Z
LAST-MODIFIED:20240918T150154Z
UID:10000230-1748649600-1748735999@insightpaschool.org
SUMMARY:HS Graduation
DESCRIPTION:
URL:https://insightpaschool.org/event/hs-graduation-2025/
LOCATION:PA
CATEGORIES:In-Person Events
END:VEVENT
END:VCALENDAR