BEGIN:VCALENDAR
VERSION:2.0
PRODID:-//Insight PA Cyber Charter School - ECPv6.15.17.1//NONSGML v1.0//EN
CALSCALE:GREGORIAN
METHOD:PUBLISH
X-ORIGINAL-URL:https://insightpaschool.org
X-WR-CALDESC:Events for Insight PA Cyber Charter School
REFRESH-INTERVAL;VALUE=DURATION:PT1H
X-Robots-Tag:noindex
X-PUBLISHED-TTL:PT1H
BEGIN:VTIMEZONE
TZID:America/New_York
BEGIN:DAYLIGHT
TZOFFSETFROM:-0500
TZOFFSETTO:-0400
TZNAME:EDT
DTSTART:20240310T070000
END:DAYLIGHT
BEGIN:STANDARD
TZOFFSETFROM:-0400
TZOFFSETTO:-0500
TZNAME:EST
DTSTART:20241103T060000
END:STANDARD
BEGIN:DAYLIGHT
TZOFFSETFROM:-0500
TZOFFSETTO:-0400
TZNAME:EDT
DTSTART:20250309T070000
END:DAYLIGHT
BEGIN:STANDARD
TZOFFSETFROM:-0400
TZOFFSETTO:-0500
TZNAME:EST
DTSTART:20251102T060000
END:STANDARD
BEGIN:DAYLIGHT
TZOFFSETFROM:-0500
TZOFFSETTO:-0400
TZNAME:EDT
DTSTART:20260308T070000
END:DAYLIGHT
BEGIN:STANDARD
TZOFFSETFROM:-0400
TZOFFSETTO:-0500
TZNAME:EST
DTSTART:20261101T060000
END:STANDARD
BEGIN:DAYLIGHT
TZOFFSETFROM:-0500
TZOFFSETTO:-0400
TZNAME:EDT
DTSTART:20270314T070000
END:DAYLIGHT
BEGIN:STANDARD
TZOFFSETFROM:-0400
TZOFFSETTO:-0500
TZNAME:EST
DTSTART:20271107T060000
END:STANDARD
END:VTIMEZONE
BEGIN:VEVENT
DTSTART;TZID=America/New_York:20251125T123000
DTEND;TZID=America/New_York:20251125T130000
DTSTAMP:20260422T030449
CREATED:20251031T141324Z
LAST-MODIFIED:20251031T141324Z
UID:10000434-1764073800-1764075600@insightpaschool.org
SUMMARY:Family Learning Cafe: PEAL Center
DESCRIPTION:  \nPresented by Insight PA’s Transition Team \n*Learn more about the PEAL Center here.
URL:https://insightpaschool.org/event/flc-peal-center/
CATEGORIES:Family Learning Cafes,Virtual Events
LOCATION:https://insightpaschool.zoom.us/j/86810405345
END:VEVENT
BEGIN:VEVENT
DTSTART;TZID=America/New_York:20251209T120000
DTEND;TZID=America/New_York:20251209T123000
DTSTAMP:20260422T030449
CREATED:20251124T165208Z
LAST-MODIFIED:20251124T165208Z
UID:10000439-1765281600-1765283400@insightpaschool.org
SUMMARY:Family Learning Cafe: Keeping Students Engaged Over Winter Break
DESCRIPTION:  \nPresented by Erica Davenport and Lori Jones\, LEAP Specialists
URL:https://insightpaschool.org/event/flc-engagement-over-winter-break/
CATEGORIES:Family Learning Cafes,Virtual Events
LOCATION:https://insightpaschool.zoom.us/j/6575898110
END:VEVENT
BEGIN:VEVENT
DTSTART;TZID=America/New_York:20251209T123000
DTEND;TZID=America/New_York:20251209T130000
DTSTAMP:20260422T030449
CREATED:20251124T165304Z
LAST-MODIFIED:20251124T165304Z
UID:10000440-1765283400-1765285200@insightpaschool.org
SUMMARY:Family Learning Cafe: Effective Communication Strategies for LGs
DESCRIPTION:  \nPresented by Erica Evans\, Student Resource Specialist
URL:https://insightpaschool.org/event/flc-communication-strategies/
CATEGORIES:Family Learning Cafes,Virtual Events
LOCATION:https://insightpaschool.zoom.us/j/6575898110
END:VEVENT
BEGIN:VEVENT
DTSTART;TZID=America/New_York:20251216T120000
DTEND;TZID=America/New_York:20251216T123000
DTSTAMP:20260422T030449
CREATED:20251124T165415Z
LAST-MODIFIED:20251124T165415Z
UID:10000441-1765886400-1765888200@insightpaschool.org
SUMMARY:Family Learning Cafe: Self-Care & Stress Management for Parents
DESCRIPTION:  \nPresented by Crystal McClure\, Student Resource Specialist
URL:https://insightpaschool.org/event/flc-self-care-for-parents/
CATEGORIES:Family Learning Cafes,Virtual Events
LOCATION:https://insightpaschool.zoom.us/j/6575898110
END:VEVENT
BEGIN:VEVENT
DTSTART;TZID=America/New_York:20260203T120000
DTEND;TZID=America/New_York:20260203T123000
DTSTAMP:20260422T030449
CREATED:20260128T181421Z
LAST-MODIFIED:20260128T181421Z
UID:10000453-1770120000-1770121800@insightpaschool.org
SUMMARY:Family Learning Cafe: Attendance Strategies & Barriers
DESCRIPTION:  \nPresented by Kelly Green\, LEAP Specialist
URL:https://insightpaschool.org/event/flc-attendance-strategies/
CATEGORIES:Family Learning Cafes,Virtual Events
LOCATION:https://insightpaschool.zoom.us/j/6575898110
END:VEVENT
BEGIN:VEVENT
DTSTART;TZID=America/New_York:20260203T123000
DTEND;TZID=America/New_York:20260203T130000
DTSTAMP:20260422T030449
CREATED:20260128T181605Z
LAST-MODIFIED:20260128T181605Z
UID:10000454-1770121800-1770123600@insightpaschool.org
SUMMARY:Family Learning Cafe: Teen Safe Dating & Violence
DESCRIPTION:  \nPresented by Shaneka Washington\, School Social Worker
URL:https://insightpaschool.org/event/flc-teen-dating/
CATEGORIES:Family Learning Cafes,Virtual Events
LOCATION:https://insightpaschool.zoom.us/j/6575898110
END:VEVENT
BEGIN:VEVENT
DTSTART;TZID=America/New_York:20260210T123000
DTEND;TZID=America/New_York:20260210T130000
DTSTAMP:20260422T030449
CREATED:20260128T181717Z
LAST-MODIFIED:20260128T181717Z
UID:10000455-1770726600-1770728400@insightpaschool.org
SUMMARY:Family Learning Cafe: PASA Testing
DESCRIPTION:  \nFor families of students participating in PASA Testing\, Presenter TBD
URL:https://insightpaschool.org/event/flc-pasa-testing/
CATEGORIES:Family Learning Cafes,Virtual Events
LOCATION:https://insightpaschool.zoom.us/j/6575898110
END:VEVENT
BEGIN:VEVENT
DTSTART;TZID=America/New_York:20260217T120000
DTEND;TZID=America/New_York:20260217T123000
DTSTAMP:20260422T030449
CREATED:20260128T181920Z
LAST-MODIFIED:20260128T182440Z
UID:10000456-1771329600-1771331400@insightpaschool.org
SUMMARY:Family Learning Cafe: Class for Zoom & ParentSquare
DESCRIPTION:  \nPresented by Brianne Ryen\, LEAP Specialist
URL:https://insightpaschool.org/event/flc-class-psq/
CATEGORIES:Family Learning Cafes,Virtual Events
LOCATION:https://insightpaschool.zoom.us/j/6575898110
END:VEVENT
BEGIN:VEVENT
DTSTART;TZID=America/New_York:20260224T120000
DTEND;TZID=America/New_York:20260224T123000
DTSTAMP:20260422T030449
CREATED:20260128T182349Z
LAST-MODIFIED:20260128T182349Z
UID:10000458-1771934400-1771936200@insightpaschool.org
SUMMARY:Family Learning Cafe: English Language Development (Topic TBD)
DESCRIPTION:  \nTopic and Presenter TBD
URL:https://insightpaschool.org/event/flc-eld/
CATEGORIES:Family Learning Cafes,Virtual Events
LOCATION:https://insightpaschool.zoom.us/j/6575898110
END:VEVENT
BEGIN:VEVENT
DTSTART;TZID=America/New_York:20260224T123000
DTEND;TZID=America/New_York:20260224T130000
DTSTAMP:20260422T030449
CREATED:20260128T182235Z
LAST-MODIFIED:20260128T182235Z
UID:10000457-1771936200-1771938000@insightpaschool.org
SUMMARY:Family Learning Cafe: Liberty Resources
DESCRIPTION:  \nPresented Insight PA’s Transition Team \nLiberty Resources is a Center for Independent Living serving individuals with disabilities in Philadelphia\, Montgomery\, Chester and Delaware counties. They are a consumer-controlled\, cross-disability organization committed to ensuring civil rights\, equal access\, and full community inclusion for all. For more information\, visit the Liberty Resources website.
URL:https://insightpaschool.org/event/flc-liberty-resources/
CATEGORIES:Family Learning Cafes,Virtual Events
LOCATION:https://insightpaschool.zoom.us/j/88527694444
END:VEVENT
BEGIN:VEVENT
DTSTART;TZID=America/New_York:20260303T120000
DTEND;TZID=America/New_York:20260303T123000
DTSTAMP:20260422T030449
CREATED:20260302T143201Z
LAST-MODIFIED:20260302T143201Z
UID:10000462-1772539200-1772541000@insightpaschool.org
SUMMARY:Family Learning Cafe: Benefits of Participating in Sports
DESCRIPTION:  \nPresented by Jeff Koleno\, LEAP Specialist
URL:https://insightpaschool.org/event/flc-sports/
CATEGORIES:Family Learning Cafes,Virtual Events
LOCATION:https://insightpaschool.zoom.us/j/6575898110
END:VEVENT
BEGIN:VEVENT
DTSTART;TZID=America/New_York:20260303T123000
DTEND;TZID=America/New_York:20260303T130000
DTSTAMP:20260422T030449
CREATED:20260302T143115Z
LAST-MODIFIED:20260302T143115Z
UID:10000463-1772541000-1772542800@insightpaschool.org
SUMMARY:Family Learning Cafe: Financial Aid & College Searches
DESCRIPTION:  \nPresented by Erin Steiner and Vanessa Cloud\, Insight PA Counselors
URL:https://insightpaschool.org/event/flc-financial-aid/
CATEGORIES:Family Learning Cafes,Virtual Events
LOCATION:https://insightpaschool.zoom.us/j/6575898110
END:VEVENT
BEGIN:VEVENT
DTSTART;TZID=America/New_York:20260310T120000
DTEND;TZID=America/New_York:20260310T123000
DTSTAMP:20260422T030449
CREATED:20260302T145604Z
LAST-MODIFIED:20260302T145604Z
UID:10000465-1773144000-1773145800@insightpaschool.org
SUMMARY:Family Learning Cafe: Community Engagement Events and Opportuntities
DESCRIPTION:  \nPresented by Kristin Seidel and Trevor Williams\, Community Engagement Coordinators
URL:https://insightpaschool.org/event/flc-community-engagement-2/
CATEGORIES:Family Learning Cafes,Virtual Events
LOCATION:https://insightpaschool.zoom.us/j/6575898110
END:VEVENT
BEGIN:VEVENT
DTSTART;TZID=America/New_York:20260317T120000
DTEND;TZID=America/New_York:20260317T123000
DTSTAMP:20260422T030449
CREATED:20260302T145840Z
LAST-MODIFIED:20260302T145840Z
UID:10000467-1773748800-1773750600@insightpaschool.org
SUMMARY:Family Learning Cafe: Schoology
DESCRIPTION:  \nPresented by Colleen Loughney\, LEAP Specialist
URL:https://insightpaschool.org/event/flc-schoology/
CATEGORIES:Family Learning Cafes,Virtual Events
LOCATION:https://insightpaschool.zoom.us/j/6575898110
END:VEVENT
BEGIN:VEVENT
DTSTART;TZID=America/New_York:20260317T123000
DTEND;TZID=America/New_York:20260317T130000
DTSTAMP:20260422T030449
CREATED:20260302T145735Z
LAST-MODIFIED:20260306T174411Z
UID:10000466-1773750600-1773752400@insightpaschool.org
SUMMARY:Family Learning Cafe: State Testing
DESCRIPTION:  \nPresented by Amy Taylor\, Instructional Support Specialist
URL:https://insightpaschool.org/event/flc-state-testing/
CATEGORIES:Family Learning Cafes,Virtual Events
LOCATION:https://insightpaschool.zoom.us/j/6575898110
END:VEVENT
BEGIN:VEVENT
DTSTART;TZID=America/New_York:20260317T180000
DTEND;TZID=America/New_York:20260317T183000
DTSTAMP:20260422T030449
CREATED:20260306T174647Z
LAST-MODIFIED:20260306T174647Z
UID:10000471-1773770400-1773772200@insightpaschool.org
SUMMARY:EVENING Family Learning Cafe - Youth Violence Prevention
DESCRIPTION:  \nPresented by Michelle Turner\, MKV Specialist
URL:https://insightpaschool.org/event/flc-youth-violence-prevention-2/
CATEGORIES:Family Learning Cafes,Virtual Events
LOCATION:https://insightpaschool.zoom.us/j/6088486408
END:VEVENT
BEGIN:VEVENT
DTSTART;TZID=America/New_York:20260324T120000
DTEND;TZID=America/New_York:20260324T123000
DTSTAMP:20260422T030449
CREATED:20260302T150148Z
LAST-MODIFIED:20260302T150148Z
UID:10000469-1774353600-1774355400@insightpaschool.org
SUMMARY:Family Learning Cafe: Literacy & Reading at Home
DESCRIPTION:  \nPresented by English Language Development Team
URL:https://insightpaschool.org/event/flc-reading-at-home/
CATEGORIES:Family Learning Cafes,Virtual Events
LOCATION:https://insightpaschool.zoom.us/j/6575898110
END:VEVENT
BEGIN:VEVENT
DTSTART;TZID=America/New_York:20260324T123000
DTEND;TZID=America/New_York:20260324T130000
DTSTAMP:20260422T030449
CREATED:20260302T150303Z
LAST-MODIFIED:20260327T150622Z
UID:10000470-1774355400-1774357200@insightpaschool.org
SUMMARY:Family Learning Cafe: JAG/Job Corps
DESCRIPTION:  \nPresented by Insight PA Transition Team
URL:https://insightpaschool.org/event/flc-jag/
CATEGORIES:Family Learning Cafes,Virtual Events
LOCATION:https://insightpaschool.zoom.us/j/83217988651?jst=1
END:VEVENT
BEGIN:VEVENT
DTSTART;TZID=America/New_York:20260407T120000
DTEND;TZID=America/New_York:20260407T123000
DTSTAMP:20260422T030449
CREATED:20260327T150941Z
LAST-MODIFIED:20260327T150941Z
UID:10000472-1775563200-1775565000@insightpaschool.org
SUMMARY:Family Learning Cafe: Attendance Strategies & Barriers
DESCRIPTION:  \nPresented by Asia Chappelle\, Student Attendance Specialist
URL:https://insightpaschool.org/event/flc-attendance-2/
CATEGORIES:Family Learning Cafes,Virtual Events
LOCATION:https://insightpaschool.zoom.us/j/6575898110
END:VEVENT
BEGIN:VEVENT
DTSTART;TZID=America/New_York:20260407T123000
DTEND;TZID=America/New_York:20260407T130000
DTSTAMP:20260422T030449
CREATED:20260327T151125Z
LAST-MODIFIED:20260327T151125Z
UID:10000473-1775565000-1775566800@insightpaschool.org
SUMMARY:Family Learning Cafe: Mental Health Awareness
DESCRIPTION:  \nPresented by Erica Davenport\, LEAP Specialist
URL:https://insightpaschool.org/event/flc-mental-health/
CATEGORIES:Family Learning Cafes,Virtual Events
LOCATION:https://insightpaschool.zoom.us/j/6575898110
END:VEVENT
BEGIN:VEVENT
DTSTART;TZID=America/New_York:20260414T123000
DTEND;TZID=America/New_York:20260414T130000
DTSTAMP:20260422T030449
CREATED:20260327T151306Z
LAST-MODIFIED:20260327T151306Z
UID:10000474-1776169800-1776171600@insightpaschool.org
SUMMARY:Family Learning Cafe: Graduation Requirements
DESCRIPTION:  \nPresented by Macaela Collins & Carolyn Hockman\, High School Special Education Supervisors
URL:https://insightpaschool.org/event/flc-grad-requirements/
CATEGORIES:Family Learning Cafes,Virtual Events
LOCATION:https://insightpaschool.zoom.us/j/6575898110
END:VEVENT
BEGIN:VEVENT
DTSTART;TZID=America/New_York:20260428T120000
DTEND;TZID=America/New_York:20260428T123000
DTSTAMP:20260422T030449
CREATED:20260327T151532Z
LAST-MODIFIED:20260327T151532Z
UID:10000475-1777377600-1777379400@insightpaschool.org
SUMMARY:Family Learning Cafe: ELD Reclassification
DESCRIPTION:  \nPresented by Insight PA’s English Language Development Department
URL:https://insightpaschool.org/event/flc-eld-reclassification/
CATEGORIES:Family Learning Cafes,Virtual Events
LOCATION:https://insightpaschool.zoom.us/j/6575898110
END:VEVENT
BEGIN:VEVENT
DTSTART;TZID=America/New_York:20260428T120000
DTEND;TZID=America/New_York:20260428T130000
DTSTAMP:20260422T030449
CREATED:20260327T151729Z
LAST-MODIFIED:20260327T151729Z
UID:10000476-1777377600-1777381200@insightpaschool.org
SUMMARY:Family Learning Cafe: ASERT
DESCRIPTION:  \nAbout ASERT – The Autism Services\, Education\, Resources\, and Training (ASERT) Collaborative is a statewide initiative funded by the Office of Developmental Programs (ODP). The goal of the ASERT Collaborative is to provide streamlined access to information for autistic Pennsylvanians. \nPresented by Insight PA’s Transition Team
URL:https://insightpaschool.org/event/flc-asert/
CATEGORIES:Family Learning Cafes,Virtual Events
LOCATION:https://insightpaschool.zoom.us/j/87858883706
END:VEVENT
END:VCALENDAR