BEGIN:VCALENDAR
VERSION:2.0
PRODID:-//Insight PA Cyber Charter School - ECPv6.15.17.1//NONSGML v1.0//EN
CALSCALE:GREGORIAN
METHOD:PUBLISH
X-WR-CALNAME:Insight PA Cyber Charter School
X-ORIGINAL-URL:https://insightpaschool.org
X-WR-CALDESC:Events for Insight PA Cyber Charter School
REFRESH-INTERVAL;VALUE=DURATION:PT1H
X-Robots-Tag:noindex
X-PUBLISHED-TTL:PT1H
BEGIN:VTIMEZONE
TZID:America/New_York
BEGIN:DAYLIGHT
TZOFFSETFROM:-0500
TZOFFSETTO:-0400
TZNAME:EDT
DTSTART:20250309T070000
END:DAYLIGHT
BEGIN:STANDARD
TZOFFSETFROM:-0400
TZOFFSETTO:-0500
TZNAME:EST
DTSTART:20251102T060000
END:STANDARD
BEGIN:DAYLIGHT
TZOFFSETFROM:-0500
TZOFFSETTO:-0400
TZNAME:EDT
DTSTART:20260308T070000
END:DAYLIGHT
BEGIN:STANDARD
TZOFFSETFROM:-0400
TZOFFSETTO:-0500
TZNAME:EST
DTSTART:20261101T060000
END:STANDARD
BEGIN:DAYLIGHT
TZOFFSETFROM:-0500
TZOFFSETTO:-0400
TZNAME:EDT
DTSTART:20270314T070000
END:DAYLIGHT
BEGIN:STANDARD
TZOFFSETFROM:-0400
TZOFFSETTO:-0500
TZNAME:EST
DTSTART:20271107T060000
END:STANDARD
END:VTIMEZONE
BEGIN:VEVENT
DTSTART;TZID=America/New_York:20260324T120000
DTEND;TZID=America/New_York:20260324T123000
DTSTAMP:20260421T182715
CREATED:20260302T150148Z
LAST-MODIFIED:20260302T150148Z
UID:10000469-1774353600-1774355400@insightpaschool.org
SUMMARY:Family Learning Cafe: Literacy & Reading at Home
DESCRIPTION:  \nPresented by English Language Development Team
URL:https://insightpaschool.org/event/flc-reading-at-home/
CATEGORIES:Family Learning Cafes,Virtual Events
LOCATION:https://insightpaschool.zoom.us/j/6575898110
END:VEVENT
BEGIN:VEVENT
DTSTART;TZID=America/New_York:20260324T123000
DTEND;TZID=America/New_York:20260324T130000
DTSTAMP:20260421T182715
CREATED:20260302T150303Z
LAST-MODIFIED:20260327T150622Z
UID:10000470-1774355400-1774357200@insightpaschool.org
SUMMARY:Family Learning Cafe: JAG/Job Corps
DESCRIPTION:  \nPresented by Insight PA Transition Team
URL:https://insightpaschool.org/event/flc-jag/
CATEGORIES:Family Learning Cafes,Virtual Events
LOCATION:https://insightpaschool.zoom.us/j/83217988651?jst=1
END:VEVENT
BEGIN:VEVENT
DTSTART;TZID=America/New_York:20260407T120000
DTEND;TZID=America/New_York:20260407T123000
DTSTAMP:20260421T182715
CREATED:20260327T150941Z
LAST-MODIFIED:20260327T150941Z
UID:10000472-1775563200-1775565000@insightpaschool.org
SUMMARY:Family Learning Cafe: Attendance Strategies & Barriers
DESCRIPTION:  \nPresented by Asia Chappelle\, Student Attendance Specialist
URL:https://insightpaschool.org/event/flc-attendance-2/
CATEGORIES:Family Learning Cafes,Virtual Events
LOCATION:https://insightpaschool.zoom.us/j/6575898110
END:VEVENT
BEGIN:VEVENT
DTSTART;TZID=America/New_York:20260407T123000
DTEND;TZID=America/New_York:20260407T130000
DTSTAMP:20260421T182715
CREATED:20260327T151125Z
LAST-MODIFIED:20260327T151125Z
UID:10000473-1775565000-1775566800@insightpaschool.org
SUMMARY:Family Learning Cafe: Mental Health Awareness
DESCRIPTION:  \nPresented by Erica Davenport\, LEAP Specialist
URL:https://insightpaschool.org/event/flc-mental-health/
CATEGORIES:Family Learning Cafes,Virtual Events
LOCATION:https://insightpaschool.zoom.us/j/6575898110
END:VEVENT
BEGIN:VEVENT
DTSTART;TZID=America/New_York:20260414T123000
DTEND;TZID=America/New_York:20260414T130000
DTSTAMP:20260421T182715
CREATED:20260327T151306Z
LAST-MODIFIED:20260327T151306Z
UID:10000474-1776169800-1776171600@insightpaschool.org
SUMMARY:Family Learning Cafe: Graduation Requirements
DESCRIPTION:  \nPresented by Macaela Collins & Carolyn Hockman\, High School Special Education Supervisors
URL:https://insightpaschool.org/event/flc-grad-requirements/
CATEGORIES:Family Learning Cafes,Virtual Events
LOCATION:https://insightpaschool.zoom.us/j/6575898110
END:VEVENT
BEGIN:VEVENT
DTSTART;TZID=America/New_York:20260428T120000
DTEND;TZID=America/New_York:20260428T123000
DTSTAMP:20260421T182715
CREATED:20260327T151532Z
LAST-MODIFIED:20260327T151532Z
UID:10000475-1777377600-1777379400@insightpaschool.org
SUMMARY:Family Learning Cafe: ELD Reclassification
DESCRIPTION:  \nPresented by Insight PA’s English Language Development Department
URL:https://insightpaschool.org/event/flc-eld-reclassification/
CATEGORIES:Family Learning Cafes,Virtual Events
LOCATION:https://insightpaschool.zoom.us/j/6575898110
END:VEVENT
BEGIN:VEVENT
DTSTART;TZID=America/New_York:20260428T120000
DTEND;TZID=America/New_York:20260428T130000
DTSTAMP:20260421T182715
CREATED:20260327T151729Z
LAST-MODIFIED:20260327T151729Z
UID:10000476-1777377600-1777381200@insightpaschool.org
SUMMARY:Family Learning Cafe: ASERT
DESCRIPTION:  \nAbout ASERT – The Autism Services\, Education\, Resources\, and Training (ASERT) Collaborative is a statewide initiative funded by the Office of Developmental Programs (ODP). The goal of the ASERT Collaborative is to provide streamlined access to information for autistic Pennsylvanians. \nPresented by Insight PA’s Transition Team
URL:https://insightpaschool.org/event/flc-asert/
CATEGORIES:Family Learning Cafes,Virtual Events
LOCATION:https://insightpaschool.zoom.us/j/87858883706
END:VEVENT
END:VCALENDAR