BEGIN:VCALENDAR
VERSION:2.0
PRODID:-//Insight PA Cyber Charter School - ECPv6.15.17.1//NONSGML v1.0//EN
CALSCALE:GREGORIAN
METHOD:PUBLISH
X-ORIGINAL-URL:https://insightpaschool.org
X-WR-CALDESC:Events for Insight PA Cyber Charter School
REFRESH-INTERVAL;VALUE=DURATION:PT1H
X-Robots-Tag:noindex
X-PUBLISHED-TTL:PT1H
BEGIN:VTIMEZONE
TZID:America/New_York
BEGIN:DAYLIGHT
TZOFFSETFROM:-0500
TZOFFSETTO:-0400
TZNAME:EDT
DTSTART:20240310T070000
END:DAYLIGHT
BEGIN:STANDARD
TZOFFSETFROM:-0400
TZOFFSETTO:-0500
TZNAME:EST
DTSTART:20241103T060000
END:STANDARD
BEGIN:DAYLIGHT
TZOFFSETFROM:-0500
TZOFFSETTO:-0400
TZNAME:EDT
DTSTART:20250309T070000
END:DAYLIGHT
BEGIN:STANDARD
TZOFFSETFROM:-0400
TZOFFSETTO:-0500
TZNAME:EST
DTSTART:20251102T060000
END:STANDARD
BEGIN:DAYLIGHT
TZOFFSETFROM:-0500
TZOFFSETTO:-0400
TZNAME:EDT
DTSTART:20260308T070000
END:DAYLIGHT
BEGIN:STANDARD
TZOFFSETFROM:-0400
TZOFFSETTO:-0500
TZNAME:EST
DTSTART:20261101T060000
END:STANDARD
END:VTIMEZONE
BEGIN:VEVENT
DTSTART;TZID=America/New_York:20251007T120000
DTEND;TZID=America/New_York:20251007T123000
DTSTAMP:20260421T214242
CREATED:20250923T124647Z
LAST-MODIFIED:20250925T164216Z
UID:10000415-1759838400-1759840200@insightpaschool.org
SUMMARY:Family Learning Cafe: Attendance Strategies & Barriers
DESCRIPTION:  \nPresented by Kay-Cee O’Malley\, LEAP Specialist
URL:https://insightpaschool.org/event/flc-attendance/
CATEGORIES:Family Learning Cafes,Virtual Events
LOCATION: Master PD Tracking Spreadsheet: Student Services Dept 2025-26 SY 100% K9  https://insightpaschool.zoom.us/j/4220713458      	 https://insightpaschool.zoom.us/j/4220713458 Turn on screen reader support To enable screen reader support, press ⌘+Option+Z To learn about keyboard shortcuts, press ⌘slashCarolyn M Myron has joined the document.
END:VEVENT
BEGIN:VEVENT
DTSTART;TZID=America/New_York:20251007T123000
DTEND;TZID=America/New_York:20251007T130000
DTSTAMP:20260421T214242
CREATED:20250923T125221Z
LAST-MODIFIED:20251031T135354Z
UID:10000416-1759840200-1759842000@insightpaschool.org
SUMMARY:Family Learning Cafe: Bullying Prevention
DESCRIPTION:  \nPresented by Brett Witmer\, Student Resource Specialist
URL:https://insightpaschool.org/event/flc-bullying-prevention/
CATEGORIES:Family Learning Cafes,Virtual Events
LOCATION:https://insightpaschool.zoom.us/j/4220713458
END:VEVENT
BEGIN:VEVENT
DTSTART;TZID=America/New_York:20251014T123000
DTEND;TZID=America/New_York:20251014T130000
DTSTAMP:20260421T214242
CREATED:20250923T124833Z
LAST-MODIFIED:20250923T124833Z
UID:10000417-1760445000-1760446800@insightpaschool.org
SUMMARY:Family Learning Cafe: Special Education Basics
DESCRIPTION:  \nPresented by Mary Mack\, MS Special Education Coordinator
URL:https://insightpaschool.org/event/flc-special-ed-basics/
CATEGORIES:Family Learning Cafes,Virtual Events
LOCATION:https://insightpaschool.zoom.us/j/6575898110
END:VEVENT
BEGIN:VEVENT
DTSTART;TZID=America/New_York:20251021T120000
DTEND;TZID=America/New_York:20251021T123000
DTSTAMP:20260421T214242
CREATED:20250923T124907Z
LAST-MODIFIED:20250923T124907Z
UID:10000418-1761048000-1761049800@insightpaschool.org
SUMMARY:Family Learning Cafe: Class & ParentSquare
DESCRIPTION:  \nPresented by Brittani Ferris\, LEAP Specialist
URL:https://insightpaschool.org/event/flc-class-parentsquare/
CATEGORIES:Family Learning Cafes,Virtual Events
LOCATION:https://insightpaschool.zoom.us/j/6575898110
END:VEVENT
BEGIN:VEVENT
DTSTART;TZID=America/New_York:20251021T123000
DTEND;TZID=America/New_York:20251021T130000
DTSTAMP:20260421T214242
CREATED:20250923T124759Z
LAST-MODIFIED:20250923T124759Z
UID:10000419-1761049800-1761051600@insightpaschool.org
SUMMARY:Family Learning Cafe: Social Media Safety for Teens
DESCRIPTION:  \nPresented by Mandy Sleighter\, Student Resource Specialist
URL:https://insightpaschool.org/event/flc-social-media-safety-for-teens/
CATEGORIES:Family Learning Cafes,Virtual Events
LOCATION:https://insightpaschool.zoom.us/j/6575898110
END:VEVENT
BEGIN:VEVENT
DTSTART;TZID=America/New_York:20251028T123000
DTEND;TZID=America/New_York:20251028T130000
DTSTAMP:20260421T214242
CREATED:20250925T164749Z
LAST-MODIFIED:20250925T164749Z
UID:10000422-1761654600-1761656400@insightpaschool.org
SUMMARY:Family Learning Cafe: Office of Developmental Programs
DESCRIPTION:  \nPresented by Insight PA Transition Team
URL:https://insightpaschool.org/event/flc-office-of-developmental-programs/
CATEGORIES:Family Learning Cafes,Virtual Events
LOCATION:https://insightpaschool.zoom.us/j/86038553680
END:VEVENT
END:VCALENDAR